BEGIN:VCALENDAR
VERSION:2.0
PRODID:-//Ler Librerías - ECPv6.15.20//NONSGML v1.0//EN
CALSCALE:GREGORIAN
METHOD:PUBLISH
X-WR-CALNAME:Ler Librerías
X-ORIGINAL-URL:https://lerlibrerias.com
X-WR-CALDESC:Eventos para Ler Librerías
REFRESH-INTERVAL;VALUE=DURATION:PT1H
X-Robots-Tag:noindex
X-PUBLISHED-TTL:PT1H
BEGIN:VTIMEZONE
TZID:UTC
BEGIN:STANDARD
TZOFFSETFROM:+0000
TZOFFSETTO:+0000
TZNAME:UTC
DTSTART:20240101T000000
END:STANDARD
END:VTIMEZONE
BEGIN:VEVENT
DTSTART;TZID=UTC:20260423T090000
DTEND;TZID=UTC:20260423T213000
DTSTAMP:20260425T115512
CREATED:20260422T053100Z
LAST-MODIFIED:20260422T053100Z
UID:10000008-1776934800-1776979800@lerlibrerias.com
SUMMARY:Día internacional do libro
DESCRIPTION:Achégase o DÍA DO LIBRO! Este xoves 23 de abril celebramos o Día do Libro\, con descontos directos do 10% en todos os exemplares. \nEste é un día especial para todos os libreiros e libreiras\, pero en Ler Librerías Santa Comba queremos facelo máis especial aínda cunha serie de sorpresas e agasallos que vos iremos desvelando estos días
URL:https://lerlibrerias.com/event/dia-internacional-do-libro/
LOCATION:Ler Librerías Santa Comba
CATEGORIES:Presentaciones
ATTACH;FMTTYPE=image/jpeg:https://lerlibrerias.com/wp-content/uploads/2026/04/dia-do-libro.jpg
END:VEVENT
BEGIN:VEVENT
DTSTART;TZID=UTC:20260417T190000
DTEND;TZID=UTC:20260417T210000
DTSTAMP:20260425T115512
CREATED:20260422T053357Z
LAST-MODIFIED:20260422T053357Z
UID:10000009-1776452400-1776459600@lerlibrerias.com
SUMMARY:Que quede entre nós
DESCRIPTION:Josefa Suárez presenta “Que quede entre nós”\, un relato cunha clara pegada poética que se nutre de retallos imaxinarios co propósito de poñer palabras onde antes só había silencio.
URL:https://lerlibrerias.com/event/que-quede-entre-nos/
LOCATION:Ler Librerías Santa Comba
CATEGORIES:Presentaciones
ATTACH;FMTTYPE=image/jpeg:https://lerlibrerias.com/wp-content/uploads/2026/04/Non-paramos😮_💨Mana-xa-temos-a-seguinte-presentacion-Josefa-Suarez-presenta-Que-quede-entre-.jpg
END:VEVENT
BEGIN:VEVENT
DTSTART;TZID=UTC:20260415T190000
DTEND;TZID=UTC:20260415T210000
DTSTAMP:20260425T115512
CREATED:20260421T173826Z
LAST-MODIFIED:20260421T173826Z
UID:10000007-1776279600-1776286800@lerlibrerias.com
SUMMARY:Asasinato no muiño do cura
DESCRIPTION:Presentación do libro de Arantza Portabales «Asasinato no muiño do cura» \n 
URL:https://lerlibrerias.com/event/asasinato-no-muino-do-cura/
LOCATION:Ler Librerías Santa Comba
CATEGORIES:Presentaciones
ATTACH;FMTTYPE=image/jpeg:https://lerlibrerias.com/wp-content/uploads/2026/04/arantza-portabales.jpeg
END:VEVENT
BEGIN:VEVENT
DTSTART;TZID=UTC:20260306T200000
DTEND;TZID=UTC:20260306T220000
DTSTAMP:20260425T115512
CREATED:20260421T170659Z
LAST-MODIFIED:20260421T171244Z
UID:10000006-1772827200-1772834400@lerlibrerias.com
SUMMARY:Defuntos e santos inocentes​
DESCRIPTION:Presentación do libro de relatos de Fernando Cabeza Quiles. \n\nFernando Cabeza Quiles\nXosé Caamaño Andrade\nXosé Antonio Andrade\nMiguel Anxo Fernán Vello\n\n 
URL:https://lerlibrerias.com/event/defuntos-e-santos-inocentes/
LOCATION:Ler Librerías Santa Comba
CATEGORIES:Presentaciones
ATTACH;FMTTYPE=image/jpeg:https://lerlibrerias.com/wp-content/uploads/2026/03/defuntosesantosinocentes.jpeg
END:VEVENT
BEGIN:VEVENT
DTSTART;TZID=UTC:20260109T210000
DTEND;TZID=UTC:20260109T230000
DTSTAMP:20260425T115512
CREATED:20260421T155940Z
LAST-MODIFIED:20260421T170601Z
UID:10000005-1767992400-1767999600@lerlibrerias.com
SUMMARY:As verbas do luns
DESCRIPTION:Libro de poemas de Xan Martínez\, elaborado de maneira artesanal seguindo unha técnica xaponesa. \nO autor estará acompañado por algunhas e algúns alumnos da Escola Sen Cancelas Teatro\, así como polo ilustrador da obra \n 
URL:https://lerlibrerias.com/event/as-verbas-do-luns/
LOCATION:Ler Librerías Santa Comba
CATEGORIES:Presentaciones
ATTACH;FMTTYPE=image/jpeg:https://lerlibrerias.com/wp-content/uploads/2026/01/xan.jpeg
END:VEVENT
BEGIN:VEVENT
DTSTART;TZID=UTC:20251210T080000
DTEND;TZID=UTC:20251210T170000
DTSTAMP:20260425T115512
CREATED:20260421T155030Z
LAST-MODIFIED:20260421T155030Z
UID:10000001-1765353600-1765386000@lerlibrerias.com
SUMMARY:Os cómaros da vida
DESCRIPTION:Presentación do libro «Os cómaros da vida» de Xosé Antonio Andrade \nIntervirán: \n\nXosé Antonio Andrade\nNatalia Otero Lema\nMiguel Anxo Fernán Vello
URL:https://lerlibrerias.com/event/os-comaros-da-vida/
LOCATION:Ler Librerías Santa Comba
CATEGORIES:Presentaciones
ATTACH;FMTTYPE=image/gif:https://lerlibrerias.com/wp-content/uploads/2025/08/978841289320.gif
END:VEVENT
BEGIN:VEVENT
DTSTART;TZID=UTC:20251107T203000
DTEND;TZID=UTC:20251107T223000
DTSTAMP:20260425T115512
CREATED:20260421T155738Z
LAST-MODIFIED:20260421T155803Z
UID:10000004-1762547400-1762554600@lerlibrerias.com
SUMMARY:Crónica dos campamentos de Barcala
DESCRIPTION:Francisco Villaverde\nCésar Ramos
URL:https://lerlibrerias.com/event/cronica-dos-campamentos-de-barcala/
LOCATION:Ler Librerías Santa Comba
CATEGORIES:Presentaciones
ATTACH;FMTTYPE=image/jpeg:https://lerlibrerias.com/wp-content/uploads/2025/11/barcala.jpeg
END:VEVENT
END:VCALENDAR